{"text_format":"3","workbook":"xlsx","n_sheets":3,"sheets":["Score invoeren","Klassement","Tornooiwinnaars"],"not_rendered":{"macros":1,"defined_names":6},"read":"whole","date_system":"1900"}

{"sheet":"Score invoeren","index":0,"n_rows":38,"n_cols":10,"rows_kept":38,"merged":[[0,0,1,0],[0,1,1,1],[0,2,1,2],[0,3,0,4],[0,5,1,5],[0,6,0,7],[0,8,0,9]]}
["nr","Uur","Terrein","ploegcode",null,"jaar","ploegnaam",null,"score"]
[{"$nulls":3},"thuis","uit",null,"Thuisploeg","Bezoeker","T","B"]
[1,"18:00-18:20","1A","A1","A2","U9","VK Westhoek B","VK Westhoek A"]
[2,"18:00-18:20","1B","D1","D2","U8","VK Westhoek C","SV Roeselare C"]
[3,"18:00-18:20","1C","B1","B2","U9","Sparta Kruiseke A","SK Wevelgem City A"]
[4,"18:00-18:20","1D","E1","E2","U8","SK Wevelgem City C","VK Westhoek D"]
[5,"18:00-18:20","2A","C1","C2","U9","GS Voormezele A","SC Zonnebeke A"]
[6,"18:00-18:20","2B","F1","F2","U8","FC Poperinge C","Sassport Boezinge C"]
[7,"18:30-18:50","1A","A3","A4","U9","SV Roeselare A","FC Poperinge A"]
[8,"18:30-18:50","1B","D3","D4","U8","SC Zonnebeke C","SV Moorslede C"]
[9,"18:30-18:50","1C","B3","B4","U9","SV Diksmuide A","SK Staden A"]
[10,"18:30-18:50","1D","E3","E4","U8","SK Wevelgem City D","SV Diksmuide C"]
[11,"18:30-18:50","2A","C3","C4","U9","E. Jonkershove A","Sassport Boezinge A"]
[12,"18:30-18:50","2B","F3","F4","U8","SK Vlamertinge C","Sassport Boezinge D"]
[13,"19:00-19:20","1A","A1","A3","U9","VK Westhoek B","SV Roeselare A"]
[14,"19:00-19:20","1B","D1","D3","U8","VK Westhoek C","SC Zonnebeke C"]
[15,"19:00-19:20","1C","B1","B3","U9","Sparta Kruiseke A","SV Diksmuide A"]
[16,"19:00-19:20","1D","E1","E3","U8","SK Wevelgem City C","SK Wevelgem City D"]
[17,"19:00-19:20","2A","C1","C3","U9","GS Voormezele A","E. Jonkershove A"]
[18,"19:00-19:20","2B","F1","F3","U8","FC Poperinge C","SK Vlamertinge C"]
[19,"19:30-19:50","1A","A2","A4","U9","VK Westhoek A","FC Poperinge A"]
[20,"19:30-19:50","1B","D2","D4","U8","SV Roeselare C","SV Moorslede C"]
[21,"19:30-19:50","1C","B2","B4","U9","SK Wevelgem City A","SK Staden A"]
[22,"19:30-19:50","1D","E2","E4","U8","VK Westhoek D","SV Diksmuide C"]
[23,"19:30-19:50","2A","C2","C4","U9","SC Zonnebeke A","Sassport Boezinge A"]
[24,"19:30-19:50","2B","F2","F4","U8","Sassport Boezinge C","Sassport Boezinge D"]
[25,"20:00-20:20","1A","A1","A4","U9","VK Westhoek B","FC Poperinge A"]
[26,"20:00-20:20","1B","D1","D4","U8","VK Westhoek C","SV Moorslede C"]
[27,"20:00-20:20","1C","B1","B4","U9","Sparta Kruiseke A","SK Staden A"]
[28,"20:00-20:20","1D","E1","E4","U8","SK Wevelgem City C","SV Diksmuide C"]
[29,"20:00-20:20","2A","C1","C4","U9","GS Voormezele A","Sassport Boezinge A"]
[30,"20:00-20:20","2B","F1","F4","U8","FC Poperinge C","Sassport Boezinge D"]
[31,"20:30-20:50","1A","A2","A3","U9","VK Westhoek A","SV Roeselare A"]
[32,"20:30-20:50","1B","D2","D3","U8","SV Roeselare C","SC Zonnebeke C"]
[33,"20:30-20:50","1C","B2","B3","U9","SK Wevelgem City A","SV Diksmuide A"]
[34,"20:30-20:50","1D","E2","E3","U8","VK Westhoek D","SK Wevelgem City D"]
[35,"20:30-20:50","2A","C2","C3","U9","SC Zonnebeke A","E. Jonkershove A"]
[36,"20:30-20:50","2B","F2","F3","U8","Sassport Boezinge C","SK Vlamertinge C"]

{"sheet":"Klassement","index":1,"n_rows":19,"n_cols":23,"rows_kept":19,"merged":[[0,0,0,10],[0,12,0,22],[2,0,2,10],[2,12,2,22],[8,0,8,10],[8,12,8,22],[14,0,14,10],[14,12,14,22]]}
["U9",{"$nulls":11},"U8"]
["Pos.","Ploeg","GS","W","V","G+","G0","Voor","Tegen","Saldo","Punten",null,"Pos.","Ploeg","GS","W","V","G+","G0","Voor","Tegen","Saldo","Punten"]
["Reeks A",{"$nulls":11},"Reeks D"]
[1,"VK Westhoek B",0,0,0,0,0,0,0,{"$f":"+H4-I4","v":0},0,null,1,"VK Westhoek C",0,0,0,0,0,0,0,{"$f":"+T4-U4","v":0},0]
[2,"VK Westhoek A",0,0,0,0,0,0,0,{"$f":"+H5-I5","v":0},0,null,2,"SV Roeselare C",0,0,0,0,0,0,0,{"$f":"+T5-U5","v":0},0]
[3,"SV Roeselare A",0,0,0,0,0,0,0,{"$f":"+H6-I6","v":0},0,null,3,"SC Zonnebeke C",0,0,0,0,0,0,0,{"$f":"+T6-U6","v":0},0]
[4,"FC Poperinge A",0,0,0,0,0,0,0,{"$f":"+H7-I7","v":0},0,null,4,"SV Moorslede C",0,0,0,0,0,0,0,{"$f":"+T7-U7","v":0},0]
[]
["Reeks B",{"$nulls":11},"Reeks E"]
[1,"Sparta Kruiseke A",0,0,0,0,0,0,0,{"$f":"+H10-I10","v":0},0,null,1,"SK Wevelgem City C",0,0,1,0,0,0,0,{"$f":"+T10-U10","v":0},0]
[2,"SK Wevelgem City A",0,0,0,0,0,0,0,{"$f":"+H11-I11","v":0},0,null,2,"VK Westhoek D",0,0,1,0,0,0,0,{"$f":"+T11-U11","v":0},0]
[3,"SV Diksmuide A",0,0,0,0,0,0,0,{"$f":"+H12-I12","v":0},0,null,3,"SK Wevelgem City D",0,0,1,0,0,0,0,{"$f":"+T12-U12","v":0},0]
[4,"SK Staden A",0,0,0,0,0,0,0,{"$f":"+H13-I13","v":0},0,null,4,"SV Diksmuide C",0,0,1,0,0,0,0,{"$f":"+T13-U13","v":0},0]
[]
["Reeks C",{"$nulls":11},"Reeks F"]
[1,"GS Voormezele A",0,0,0,0,0,0,0,{"$f":"+H16-I16","v":0},0,null,1,"FC Poperinge C",0,0,0,0,0,0,0,{"$f":"+T16-U16","v":0},0]
[2,"SC Zonnebeke A",0,0,0,0,0,0,0,{"$f":"+H17-I17","v":0},0,null,2,"Sassport Boezinge C",0,0,0,0,0,0,0,{"$f":"+T17-U17","v":0},0]
[3,"E. Jonkershove A",0,0,0,0,0,0,0,{"$f":"+H18-I18","v":0},0,null,3,"SK Vlamertinge C",0,0,0,0,0,0,0,{"$f":"+T18-U18","v":0},0]
[4,"Sassport Boezinge A",0,0,0,0,0,0,0,{"$f":"+H19-I19","v":0},0,null,4,"Sassport Boezinge D",0,0,0,0,0,0,0,{"$f":"+T19-U19","v":0},0]

{"sheet":"Tornooiwinnaars","index":2,"n_rows":17,"n_cols":3,"rows_kept":17,"merged":[[2,0,2,6],[4,0,4,1],[4,2,4,6],[6,0,6,1],[6,2,6,6],[8,0,8,1],[8,2,8,6],[10,0,10,6],[12,0,12,1],[12,2,12,6],[14,0,14,1],[14,2,14,6],[16,0,16,1],[16,2,16,6]]}
[]
[]
["Winnaars U8"]
[]
["3de plaats : ",null,{"$f":"+Klassement!$N$6","v":"SC Zonnebeke C"}]
[]
["2de plaats : ",null,{"$f":"+Klassement!$N$5","v":"SV Roeselare C"}]
[]
["1ste plaats : ",null,{"$f":"+Klassement!$N$4","v":"VK Westhoek C"}]
[]
["Winnaars U9"]
[]
["3de plaats : ",null,{"$f":"+Klassement!$B$6","v":"SV Roeselare A"}]
[]
["2de plaats : ",null,{"$f":"+Klassement!$B$5","v":"VK Westhoek A"}]
[]
["1ste plaats : ",null,{"$f":"+Klassement!$B$4","v":"VK Westhoek B"}]