{"text_format":"3","workbook":"xlsx","n_sheets":3,"sheets":["Score invoeren","Klassement","Wedstrijden speeldag 2"],"not_rendered":{"macros":1},"read":"whole","date_system":"1900"}

{"sheet":"Score invoeren","index":0,"n_rows":38,"n_cols":10,"rows_kept":38,"merged":[[0,0,1,0],[0,1,1,1],[0,2,1,2],[0,3,0,4],[0,5,1,5],[0,6,0,7],[0,8,0,9]]}
["nr","Uur","Terrein","ploegcode",null,"jaar","ploegnaam",null,"score"]
[{"$nulls":3},"thuis","uit",null,"Thuisploeg","Bezoeker","T","B"]
[1,"18:00-18:20","1A","1A","1B","U9","SC Menen A","Sparta Kruiseke A",1,9]
[2,"18:00-18:20","1B","2A","2B","U9","VV Coxyde A","SK Staden A",6,3]
[3,"18:00-18:20","1C","3A","3B","U9","Wevelgem City A","SV Roeselare A",3,8]
[4,"18:00-18:20","1D","4A","4B","U8","VV Coxyde C","EVC Beselare C",4,5]
[5,"18:00-18:20","2A","5A","5B","U8","Wevelgem City C","SV Rumbeke C",2,3]
[6,"18:00-18:20","2B","6A","6B","U8","SC Menen C","SK Staden C",0,2]
[7,"18:30-18:50","1A","1C","1D","U9","VK Ieper A","SV Diksmuide A",2,4]
[8,"18:30-18:50","1B","2C","2D","U9","SK Vlamertinge A","SV Moorslede A",2,2]
[9,"18:30-18:50","1C","3C","3D","U9","SC Zonnebeke A","VK Ieper B",0,11]
[10,"18:30-18:50","1D","4C","4D","U8","VK Ieper C","Sassport Boezinge C",10,0]
[11,"18:30-18:50","2A","5C","5D","U8","SV Diksmuide C","FC Poperinge C",7,1]
[12,"18:30-18:50","2B","6C","6D","U8","VK Ieper D","SC Zonnebeke C",5,2]
[13,"19:00-19:20","1A","1A","1C","U9","SC Menen A","VK Ieper A",3,5]
[14,"19:00-19:20","1B","2A","2C","U9","VV Coxyde A","SK Vlamertinge A",5,1]
[15,"19:00-19:20","1C","3A","3C","U9","Wevelgem City A","SC Zonnebeke A",7,2]
[16,"19:00-19:20","1D","4A","4C","U8","VV Coxyde C","VK Ieper C",5,1]
[17,"19:00-19:20","2A","5A","5C","U8","Wevelgem City C","SV Diksmuide C",2,2]
[18,"19:00-19:20","2B","6A","6C","U8","SC Menen C","VK Ieper D",2,6]
[19,"19:30-19:50","1A","1B","1D","U9","Sparta Kruiseke A","SV Diksmuide A",5,6]
[20,"19:30-19:50","1B","2B","2D","U9","SK Staden A","SV Moorslede A",4,3]
[21,"19:30-19:50","1C","3B","3D","U9","SV Roeselare A","VK Ieper B",2,7]
[22,"19:30-19:50","1D","4B","4D","U8","EVC Beselare C","Sassport Boezinge C",8,0]
[23,"19:30-19:50","2A","5B","5D","U8","SV Rumbeke C","FC Poperinge C",3,0]
[24,"19:30-19:50","2B","6B","6D","U8","SK Staden C","SC Zonnebeke C",2,1]
[25,"20:00-20:20","1A","1A","1D","U9","SC Menen A","SV Diksmuide A",0,11]
[26,"20:00-20:20","1B","2A","2D","U9","VV Coxyde A","SV Moorslede A",7,4]
[27,"20:00-20:20","1C","3A","3D","U9","Wevelgem City A","VK Ieper B",1,12]
[28,"20:00-20:20","1D","4A","4D","U8","VV Coxyde C","Sassport Boezinge C",14,0]
[29,"20:00-20:20","2A","5A","5D","U8","Wevelgem City C","FC Poperinge C",2,2]
[30,"20:00-20:20","2B","6A","6D","U8","SC Menen C","SC Zonnebeke C",2,4]
[31,"20:30-20:50","1A","1B","1C","U9","Sparta Kruiseke A","VK Ieper A",3,4]
[32,"20:30-20:50","1B","2B","2C","U9","SK Staden A","SK Vlamertinge A",2,4]
[33,"20:30-20:50","1C","3B","3C","U9","SV Roeselare A","SC Zonnebeke A",6,4]
[34,"20:30-20:50","1D","4B","4C","U8","EVC Beselare C","VK Ieper C",1,9]
[35,"20:30-20:50","2A","5B","5C","U8","SV Rumbeke C","SV Diksmuide C",3,4]
[36,"20:30-20:50","2B","6B","6C","U8","SK Staden C","VK Ieper D",0,8]

{"sheet":"Klassement","index":1,"n_rows":29,"n_cols":13,"rows_kept":29,"merged":[[0,0,0,10],[0,12,2,12],[3,12,4,12],[7,12,8,12],[11,12,12,12],[15,0,15,10],[18,12,19,12],[22,12,23,12],[26,12,27,12]]}
["U9",{"$nulls":11},"nieuwe\nreeks-\nindeling"]
["Pos.","Ploeg","GS","W","V","G+","G0","Voor","Tegen","Saldo","Punten"]
[1,"VK Ieper B",3,3,0,0,0,30,3,{"$f":"+H3-I3","v":27},9]
[2,"SV Diksmuide A",3,3,0,0,0,21,7,14,9,null,"reeks A"]
[3,"VV Coxyde A",3,3,0,0,0,18,8,10,9]
[4,"SV Roeselare A",3,2,1,0,0,16,14,2,6]
[5,"VK Ieper A",3,2,1,0,0,11,10,1,6]
[6,"SK Vlamertinge A",3,1,1,1,0,7,9,-2,5,null,"reeks B"]
[7,"Sparta Kruiseke A",3,1,2,0,0,17,11,6,3]
[8,"SK Staden A",3,1,2,0,0,9,13,-4,3]
[9,"Wevelgem City A",3,1,2,0,0,11,22,-11,3]
[10,"SV Moorslede A",3,0,2,1,0,9,13,-4,2,null,"reeks C"]
[11,"SC Zonnebeke A",3,0,3,0,0,6,24,-18,0]
[12,"SC Menen A",3,0,3,0,0,4,25,-21,0]
[]
["U8"]
["Pos.","Ploeg","GS","W","V","G+","G0","Voor","Tegen","Saldo","Punten"]
[1,"VK Ieper D",3,3,0,0,0,19,4,{"$f":"+H18-I18","v":15},9]
[2,"SV Diksmuide C",3,2,0,1,0,13,6,7,8,null,"reeks D"]
[3,"VV Coxyde C",3,2,1,0,0,23,6,17,6]
[4,"VK Ieper C",3,2,1,0,0,20,6,14,6]
[5,"SV Rumbeke C",3,2,1,0,0,9,6,3,6]
[6,"EVC Beselare C",3,2,1,0,0,14,13,1,6,null,"reeks E"]
[7,"SK Staden C",3,2,1,0,0,4,9,-5,6]
[8,"Wevelgem City C",3,0,1,1,0,6,7,-1,4]
[9,"SC Zonnebeke C",3,1,2,0,0,7,9,-2,3]
[10,"FC Poperinge C",3,0,2,1,0,3,12,-9,2,null,"reeks F"]
[11,"SC Menen C",3,0,3,0,0,4,12,-8,0]
[12,"Sassport Boezinge C",3,0,3,0,0,0,32,-32,0]

{"sheet":"Wedstrijden speeldag 2","index":2,"n_rows":38,"n_cols":10,"rows_kept":38,"merged":[[0,0,1,0],[0,1,1,1],[0,2,1,2],[0,3,0,4],[0,5,1,5],[0,6,0,7],[0,8,0,9]]}
["nr","Uur","Terrein","ploegcode",null,"jaar","ploegnaam",null,"score"]
[{"$nulls":3},"thuis","uit",null,"Thuisploeg","Bezoeker","T","B"]
[1,"18:00-18:20","1A","1A","1B","U9",{"$f":"+Klassement!$B$3","v":"VK Ieper B"},{"$f":"+Klassement!$B$4","v":"SV Diksmuide A"}]
[2,"18:00-18:20","1B","2A","2B","U9",{"$f":"+Klassement!$B$18","v":"VK Ieper D"},{"$f":"+Klassement!$B$19","v":"SV Diksmuide C"}]
[3,"18:00-18:20","1C","3A","3B","U9",{"$f":"+Klassement!$B$7","v":"VK Ieper A"},{"$f":"+Klassement!$B$8","v":"SK Vlamertinge A"}]
[4,"18:00-18:20","1D","4A","4B","U8",{"$f":"+Klassement!$B$22","v":"SV Rumbeke C"},{"$f":"+Klassement!$B$23","v":"EVC Beselare C"}]
[5,"18:00-18:20","2A","5A","5B","U8",{"$f":"+Klassement!$B$11","v":"Wevelgem City A"},{"$f":"+Klassement!$B$12","v":"SV Moorslede A"}]
[6,"18:00-18:20","2B","6A","6B","U8",{"$f":"+Klassement!$B$26","v":"SC Zonnebeke C"},{"$f":"+Klassement!$B$27","v":"FC Poperinge C"}]
[7,"18:30-18:50","1A","1C","1D","U9",{"$f":"+Klassement!$B$5","v":"VV Coxyde A"},{"$f":"+Klassement!$B$6","v":"SV Roeselare A"}]
[8,"18:30-18:50","1B","2C","2D","U9",{"$f":"+Klassement!$B$20","v":"VV Coxyde C"},{"$f":"+Klassement!$B$21","v":"VK Ieper C"}]
[9,"18:30-18:50","1C","3C","3D","U9",{"$f":"+Klassement!$B$9","v":"Sparta Kruiseke A"},{"$f":"+Klassement!$B$10","v":"SK Staden A"}]
[10,"18:30-18:50","1D","4C","4D","U8",{"$f":"+Klassement!$B$24","v":"SK Staden C"},{"$f":"+Klassement!$B$25","v":"Wevelgem City C"}]
[11,"18:30-18:50","2A","5C","5D","U8",{"$f":"+Klassement!$B$13","v":"SC Zonnebeke A"},{"$f":"+Klassement!$B$14","v":"SC Menen A"}]
[12,"18:30-18:50","2B","6C","6D","U8",{"$f":"+Klassement!$B$28","v":"SC Menen C"},{"$f":"+Klassement!$B$29","v":"Sassport Boezinge C"}]
[13,"19:00-19:20","1A","1A","1C","U9",{"$f":"+Klassement!$B$3","v":"VK Ieper B"},{"$f":"+Klassement!$B$5","v":"VV Coxyde A"}]
[14,"19:00-19:20","1B","2A","2C","U9",{"$f":"+Klassement!$B$18","v":"VK Ieper D"},{"$f":"+Klassement!$B$20","v":"VV Coxyde C"}]
[15,"19:00-19:20","1C","3A","3C","U9",{"$f":"+Klassement!$B$7","v":"VK Ieper A"},{"$f":"+Klassement!$B$9","v":"Sparta Kruiseke A"}]
[16,"19:00-19:20","1D","4A","4C","U8",{"$f":"+Klassement!$B$22","v":"SV Rumbeke C"},{"$f":"+Klassement!$B$24","v":"SK Staden C"}]
[17,"19:00-19:20","2A","5A","5C","U8",{"$f":"+Klassement!$B$11","v":"Wevelgem City A"},{"$f":"+Klassement!$B$13","v":"SC Zonnebeke A"}]
[18,"19:00-19:20","2B","6A","6C","U8",{"$f":"+Klassement!$B$26","v":"SC Zonnebeke C"},{"$f":"+Klassement!$B$28","v":"SC Menen C"}]
[19,"19:30-19:50","1A","1B","1D","U9",{"$f":"+Klassement!$B$4","v":"SV Diksmuide A"},{"$f":"+Klassement!$B$6","v":"SV Roeselare A"}]
[20,"19:30-19:50","1B","2B","2D","U9",{"$f":"+Klassement!$B$19","v":"SV Diksmuide C"},{"$f":"+Klassement!$B$21","v":"VK Ieper C"}]
[21,"19:30-19:50","1C","3B","3D","U9",{"$f":"+Klassement!$B$8","v":"SK Vlamertinge A"},{"$f":"+Klassement!$B$10","v":"SK Staden A"}]
[22,"19:30-19:50","1D","4B","4D","U8",{"$f":"+Klassement!$B$23","v":"EVC Beselare C"},{"$f":"+Klassement!$B$25","v":"Wevelgem City C"}]
[23,"19:30-19:50","2A","5B","5D","U8",{"$f":"+Klassement!$B$12","v":"SV Moorslede A"},{"$f":"+Klassement!$B$14","v":"SC Menen A"}]
[24,"19:30-19:50","2B","6B","6D","U8",{"$f":"+Klassement!$B$27","v":"FC Poperinge C"},{"$f":"+Klassement!$B$29","v":"Sassport Boezinge C"}]
[25,"20:00-20:20","1A","1A","1D","U9",{"$f":"+Klassement!$B$3","v":"VK Ieper B"},{"$f":"+Klassement!$B$6","v":"SV Roeselare A"}]
[26,"20:00-20:20","1B","2A","2D","U9",{"$f":"+Klassement!$B$18","v":"VK Ieper D"},{"$f":"+Klassement!$B$21","v":"VK Ieper C"}]
[27,"20:00-20:20","1C","3A","3D","U9",{"$f":"+Klassement!$B$7","v":"VK Ieper A"},{"$f":"+Klassement!$B$10","v":"SK Staden A"}]
[28,"20:00-20:20","1D","4A","4D","U8",{"$f":"+Klassement!$B$22","v":"SV Rumbeke C"},{"$f":"+Klassement!$B$25","v":"Wevelgem City C"}]
[29,"20:00-20:20","2A","5A","5D","U8",{"$f":"+Klassement!$B$11","v":"Wevelgem City A"},{"$f":"+Klassement!$B$14","v":"SC Menen A"}]
[30,"20:00-20:20","2B","6A","6D","U8",{"$f":"+Klassement!$B$26","v":"SC Zonnebeke C"},{"$f":"+Klassement!$B$29","v":"Sassport Boezinge C"}]
[31,"20:30-20:50","1A","1B","1C","U9",{"$f":"+Klassement!$B$4","v":"SV Diksmuide A"},{"$f":"+Klassement!$B$5","v":"VV Coxyde A"}]
[32,"20:30-20:50","1B","2B","2C","U9",{"$f":"+Klassement!$B$19","v":"SV Diksmuide C"},{"$f":"+Klassement!$B$20","v":"VV Coxyde C"}]
[33,"20:30-20:50","1C","3B","3C","U9",{"$f":"+Klassement!$B$8","v":"SK Vlamertinge A"},{"$f":"+Klassement!$B$9","v":"Sparta Kruiseke A"}]
[34,"20:30-20:50","1D","4B","4C","U8",{"$f":"+Klassement!$B$23","v":"EVC Beselare C"},{"$f":"+Klassement!$B$24","v":"SK Staden C"}]
[35,"20:30-20:50","2A","5B","5C","U8",{"$f":"+Klassement!$B$12","v":"SV Moorslede A"},{"$f":"+Klassement!$B$13","v":"SC Zonnebeke A"}]
[36,"20:30-20:50","2B","6B","6C","U8",{"$f":"+Klassement!$B$27","v":"FC Poperinge C"},{"$f":"+Klassement!$B$28","v":"SC Menen C"}]